BEGIN:VCALENDAR
VERSION:2.0
PRODID:-//labri.fr//NONSGML kigkonsult.se iCalcreator 2.41.92//
CALSCALE:GREGORIAN
METHOD:PUBLISH
UID:28186aa8-c1ba-4c5e-af06-7a499a4b832d
X-WR-CALNAME:GT AlgoDist\, «Fault tolerance in distributed systems»\, Mouna
  Safir
X-WR-TIMEZONE:Europe/Paris
BEGIN:VTIMEZONE
TZID:Europe/Paris
TZUNTIL:20271031T010000Z
BEGIN:STANDARD
TZNAME:CET
DTSTART:20251026T030000
TZOFFSETFROM:+0200
TZOFFSETTO:+0100
RDATE:20261025T030000
END:STANDARD
BEGIN:DAYLIGHT
TZNAME:CEST
DTSTART:20250330T020000
TZOFFSETFROM:+0100
TZOFFSETTO:+0200
RDATE:20260329T020000
RDATE:20270328T020000
END:DAYLIGHT
END:VTIMEZONE
BEGIN:VEVENT
UID:28186aa8-c1ba-4c5e-af06-7a499a4b832d
DTSTAMP:20260425T165810Z
CLASS:PUBLIC
DESCRIPTION:Mouna Safir (ENS Lyon)\n\nTitle: Fault tolerance in distributed
  systems\n\nAbstract:\n\nOne of the key principles of distributed computin
 g is to replicate data and distribute tasks to improve the availability an
 d fault-tolerance. But this distribution poses new challenges\, in particu
 lar the coordination of processes. To ensure the consistency and proper fu
 nctioning of the system\, distributed entities must exchange information a
 nd reach joint decisions\, even in the case of breakdowns or unpredictable
  behaviour. In this context\, fault-tolerance becomes a central issue. Dis
 tributed systems must continue to operate despite partial failures or abno
 rmal behaviours of certain components.  \n\nIn my research\, I explored tw
 o ways to strengthen the resilience of distributed systems: \n- The k-agre
 ement\, which makes it possible to ensure coordination despite the faults.
 \n- Self-stabilization\, which aims to automatically restore the system af
 ter temporary disturbances.\n\nIn the course of my presentation\, I will p
 resent the main results achieved in these two lines of research.\n\n\n\n\n
 https://algodist.labri.fr/index.php/Main/GT\n\nImport automatique depuis h
 ttps://webmel.u-bordeaux.fr/home/bf-labri.ca@u-bordeaux.fr/gt.algo-dist.ic
 s par sync_icals_to_drupal.py pour gt-algodist
DTSTART;TZID=Europe/Paris:20251201T110000
DTEND;TZID=Europe/Paris:20251201T120000
LOCATION:LaBRI 178
SEQUENCE:0
SUMMARY:GT AlgoDist\, «Fault tolerance in distributed systems»\, Mouna Safi
 r
TRANSP:OPAQUE
END:VEVENT
END:VCALENDAR
