BEGIN:VCALENDAR
VERSION:2.0
PRODID:-//labri.fr//NONSGML kigkonsult.se iCalcreator 2.41.92//
CALSCALE:GREGORIAN
METHOD:PUBLISH
UID:9d396d7f-4935-47a2-8c64-73df11290917
X-WR-CALNAME:[gt.go] - Réunion d'équipe
X-WR-TIMEZONE:Europe/Paris
BEGIN:VTIMEZONE
TZID:Europe/Paris
TZUNTIL:20271031T010000Z
BEGIN:STANDARD
TZNAME:CET
DTSTART:20251026T030000
TZOFFSETFROM:+0200
TZOFFSETTO:+0100
RDATE:20261025T030000
END:STANDARD
BEGIN:DAYLIGHT
TZNAME:CEST
DTSTART:20260329T020000
TZOFFSETFROM:+0100
TZOFFSETTO:+0200
RDATE:20270328T020000
END:DAYLIGHT
END:VTIMEZONE
BEGIN:VEVENT
UID:9d396d7f-4935-47a2-8c64-73df11290917
DTSTAMP:20260425T022057Z
CLASS:PUBLIC
DESCRIPTION:\n\nVérifiez que vous êtes bien inscrits sur le site du [gdr-if
 m-gt-graphes] : [ https://gtgraphes.labri.fr/pmwiki/pmwiki.php/Equipes/Equ
 ipes#membres | https://gtgraphes.labri.fr/pmwiki/pmwiki.php/Equipes/Equipe
 s#membres ] \n\nRemarks / Remarques \n\nFind all the information of the wo
 rking group on this [ https://graphesetoptimisation.labri.fr/pmwiki.php/Gr
 oupe/GT?userlang=en | web page ] . \nRetrouvez toutes les informations du 
 GT sur cette [ https://graphesetoptimisation.labri.fr/pmwiki.php/Groupe/GT
  | page web ] . \n\n\n\nImport automatique depuis https://webmel.u-bordeau
 x.fr/home/bf-labri.ca@u-bordeaux.fr/gt.go.ics par sync_icals_to_drupal.py 
 pour GT-GO
DTSTART;TZID=Europe/Paris:20260424T133000
DTEND;TZID=Europe/Paris:20260424T150000
LOCATION:LaBRI/178
SEQUENCE:0
SUMMARY:[gt.go] - Réunion d'équipe
TRANSP:OPAQUE
END:VEVENT
END:VCALENDAR
