BEGIN:VCALENDAR
VERSION:2.0
PRODID:-//labri.fr//NONSGML kigkonsult.se iCalcreator 2.41.92//
CALSCALE:GREGORIAN
METHOD:PUBLISH
UID:e075acf0-d1e2-4844-942b-2686d52b9e71
X-WR-CALNAME:Thèse Camille Benaroch : « Contribution à la compréhension des
  performances BCI basées sur les tâches mentales à l’aide de modèles compu
 tationnels prédictifs »
X-WR-TIMEZONE:Europe/Paris
BEGIN:VTIMEZONE
TZID:Europe/Paris
TZUNTIL:20231029T010000Z
BEGIN:STANDARD
TZNAME:CET
DTSTART:20211031T030000
TZOFFSETFROM:+0200
TZOFFSETTO:+0100
RDATE:20221030T030000
END:STANDARD
BEGIN:DAYLIGHT
TZNAME:CEST
DTSTART:20210328T020000
TZOFFSETFROM:+0100
TZOFFSETTO:+0200
RDATE:20220327T020000
RDATE:20230326T020000
END:DAYLIGHT
END:VTIMEZONE
BEGIN:VEVENT
UID:e075acf0-d1e2-4844-942b-2686d52b9e71
DTSTAMP:20260421T162150Z
CLASS:PUBLIC
DESCRIPTION:Camille Benaroch (département I&amp\;S) soutiendra sa thèse int
 itulée : « Contribution à la compréhension des performances BCI basées sur
  les tâches mentales à l’aide de modèles computationnels prédictifs »\n
DTSTART;TZID=Europe/Paris:20211217T140000
DTEND;TZID=Europe/Paris:20211217T180000
LOCATION:Salle Ada Lovelace (Inria)
ORGANIZER;CN=Fabien Lotte:mailto:fabien.lotte@labri.fr
SEQUENCE:0
SUMMARY:Thèse Camille Benaroch : « Contribution à la compréhension des perf
 ormances BCI basées sur les tâches mentales à l’aide de modèles computatio
 nnels prédictifs »
TRANSP:OPAQUE
END:VEVENT
END:VCALENDAR
