BEGIN:VCALENDAR
VERSION:2.0
PRODID:-//labri.fr//NONSGML kigkonsult.se iCalcreator 2.41.92//
CALSCALE:GREGORIAN
METHOD:PUBLISH
UID:4b5abe0f-4036-4142-af63-9c5a7be63ad1
X-WR-CALNAME:Soutenance de thèse de Christophe Caubet (département I&S\, éq
 uipe TAD)
X-WR-TIMEZONE:Europe/Paris
BEGIN:VTIMEZONE
TZID:Europe/Paris
TZUNTIL:20250330T010000Z
BEGIN:STANDARD
TZNAME:CET
DTSTART:20221030T030000
TZOFFSETFROM:+0200
TZOFFSETTO:+0100
RDATE:20231029T030000
RDATE:20241027T030000
END:STANDARD
BEGIN:DAYLIGHT
TZNAME:CEST
DTSTART:20230326T020000
TZOFFSETFROM:+0100
TZOFFSETTO:+0200
RDATE:20240331T020000
END:DAYLIGHT
END:VTIMEZONE
BEGIN:VEVENT
UID:4b5abe0f-4036-4142-af63-9c5a7be63ad1
DTSTAMP:20260420T170130Z
CLASS:PUBLIC
DESCRIPTION:Christophe Caubet soutiendra sa thèse intitulée : « Apprentissa
 ge sur des données multispectrales et multi-plateformes au profit des syst
 èmes de mission de surveillance»\n
DTSTART;TZID=Europe/Paris:20230920T140000
DTEND;TZID=Europe/Paris:20230920T180000
LOCATION:Amphi LaBRI
ORGANIZER;CN=Pascal Desbarats:mailto:pascal.desbarats@labri.fr
SEQUENCE:0
SUMMARY:Soutenance de thèse de Christophe Caubet (département I&S\, équipe 
 TAD)
TRANSP:OPAQUE
END:VEVENT
END:VCALENDAR
