BEGIN:VCALENDAR
VERSION:2.0
PRODID:-//labri.fr//NONSGML kigkonsult.se iCalcreator 2.41.92//
CALSCALE:GREGORIAN
METHOD:PUBLISH
UID:db92a16c-610f-4d47-a625-2fb7bd6bf6db
X-WR-CALNAME:Séminaire d’Anna Vanden Wyngaerd
X-WR-TIMEZONE:Europe/Paris
BEGIN:VTIMEZONE
TZID:Europe/Paris
TZUNTIL:20251026T010000Z
BEGIN:STANDARD
TZNAME:CET
DTSTART:20231029T030000
TZOFFSETFROM:+0200
TZOFFSETTO:+0100
RDATE:20241027T030000
END:STANDARD
BEGIN:DAYLIGHT
TZNAME:CEST
DTSTART:20230326T020000
TZOFFSETFROM:+0100
TZOFFSETTO:+0200
RDATE:20240331T020000
RDATE:20250330T020000
END:DAYLIGHT
END:VTIMEZONE
BEGIN:VEVENT
UID:db92a16c-610f-4d47-a625-2fb7bd6bf6db
DTSTAMP:20260420T213348Z
CLASS:PUBLIC
DESCRIPTION:Séminaire d’Anna Vanden Wyngaerd . L'oratrice sera à distance s
 ur Zoom\, mais les participants seront en salle 76. Intitulé de son exposé
  : « Un modèle de tas de sable pour le théorème du mélange des cartes »\n
DTSTART;TZID=Europe/Paris:20240304T104500
DTEND;TZID=Europe/Paris:20240304T114500
LOCATION:Salle 76
SEQUENCE:0
SUMMARY:Séminaire d’Anna Vanden Wyngaerd
TRANSP:OPAQUE
END:VEVENT
END:VCALENDAR
