BEGIN:VCALENDAR
VERSION:2.0
PRODID:-//labri.fr//NONSGML kigkonsult.se iCalcreator 2.41.92//
CALSCALE:GREGORIAN
METHOD:PUBLISH
UID:23e24fd8-f88a-46aa-a252-38a6e2a8038c
X-WR-CALNAME:[gt.go] - 'Limits of Latin squares' by Frederik Garbe
X-WR-TIMEZONE:Europe/Paris
BEGIN:VTIMEZONE
TZID:Europe/Paris
TZUNTIL:20240331T010000Z
BEGIN:STANDARD
TZNAME:CET
DTSTART:20211031T030000
TZOFFSETFROM:+0200
TZOFFSETTO:+0100
RDATE:20221030T030000
RDATE:20231029T030000
END:STANDARD
BEGIN:DAYLIGHT
TZNAME:CEST
DTSTART:20220327T020000
TZOFFSETFROM:+0100
TZOFFSETTO:+0200
RDATE:20230326T020000
END:DAYLIGHT
END:VTIMEZONE
BEGIN:VEVENT
UID:23e24fd8-f88a-46aa-a252-38a6e2a8038c
DTSTAMP:20260419T124412Z
CLASS:PUBLIC
DESCRIPTION:(Uniquement en présentiel / Only offline\, no online version) 
 \n\nWe introduce a limit theory for Latin squares\, paralleling the recent
  limit theories of dense graphs and permutations. We define a notion of de
 nsity\, an appropriate version of the cut distance\, and a space of limit 
 objects – so-called Latinons. Key results of our theory are the compactnes
 s of the limit space and the equivalence of the topologies induced by the 
 cut distance and the left-convergence. Last\, using Keevash's recent resul
 ts on combinatorial designs\, we prove that each Latinon can be approximat
 ed by a finite Latin square. \n\nThis is joint work with Robert Hancock\, 
 Jan Hladký and Maryam Sharifzadeh. \n\n[Frederik Garbe] (Masaryk Universit
 y) \n\nhttps://www.fi.muni.cz/~garbe/ \n\nRemarks / Remarques \n\nFind all
  the information of the working group on this [ https://graphesetoptimisat
 ion.labri.fr/pmwiki.php/Groupe/GT?userlang=en | web page ] . \nRetrouvez t
 outes les informations du GT sur cette [ https://graphesetoptimisation.lab
 ri.fr/pmwiki.php/Groupe/GT | page web ] .
DTSTART;TZID=Europe/Paris:20220513T110000
DTEND;TZID=Europe/Paris:20220513T120000
LOCATION:LaBRI (178)
SEQUENCE:0
SUMMARY:[gt.go] - 'Limits of Latin squares' by Frederik Garbe
TRANSP:OPAQUE
END:VEVENT
END:VCALENDAR
